BEGIN:VCALENDAR
VERSION:2.0
PRODID:-//CM KIRP: Centrum Mediacji przy Krajowej Izbie Radców Prawnych - ECPv4.5.8//NONSGML v1.0//EN
CALSCALE:GREGORIAN
METHOD:PUBLISH
X-WR-CALNAME:CM KIRP: Centrum Mediacji przy Krajowej Izbie Radców Prawnych
X-ORIGINAL-URL:https://mediacje.kirp.pl
X-WR-CALDESC:Events for CM KIRP: Centrum Mediacji przy Krajowej Izbie Radców Prawnych
BEGIN:VEVENT
DTSTART;VALUE=DATE:20181214
DTEND;VALUE=DATE:20181215
DTSTAMP:20260420T101539
CREATED:20181127T081013Z
LAST-MODIFIED:20181206T105207Z
UID:1543-1544745600-1544918399@mediacje.kirp.pl
SUMMARY:WARSZTATY SPECJALISTYCZNE DLA MEDIATORÓW
DESCRIPTION:Centrum Mediacji Gospodarczej przy Krajowej Izbie Radców Prawnych zaprasza wszystkich radców prawnych – mediatorów i mediatorów\, którzy chcieliby udoskonalić swój warsztat w zakresie prowadzenia mediacji na Warsztaty Specjalistyczne. \nWarsztaty przeznaczone są dla radców prawnych\, którzy ukończyli 40-godzinne szkolenie podstawowe z zakresu mediacji zgodnie ze standardami szkolenia mediatorów Społecznej Rady ds. Alternatywnych Metod Rozwiązywania Konfliktów i Sporów przy Ministrze Sprawiedliwości z 29 października 2007 r. \n14 grudnia 2018 r. (piątek)\, godz. 14.00-19.15 \nWarszawa\, Aleje Ujazdowskie 18 lok. 4 \n„Superwizja – narzędzie zwiększenia efektywności pracy mediatora i jego psychohigieny” \n(program w załączniku) \nProwadzący: Konrad Sobczyk \nKoszt: 350 zł * \nLink do rejestracji:  http://grudziencmg.badanie.net/ \n  \n15 grudnia 2018 r. (sobota)\, godz. 9.00-14.15 \nWarszawa\, Aleje Ujazdowskie 18 lok.4 \n„Impas w mediacji czyli jak radzić sobie z kryzysami wynikającymi z zablokowania się stron na stanowiskach” \n (program w załączniku) \nProwadzący: Maciej Tański \nKoszt: 350 zł * \nLink do rejestracji:  http://grudziencmg.badanie.net/ \n  \n\nw przypadku zakupu dwóch szkoleń w pakiecie cena wynosi 650 zł \ncena obejmuje materiały szkoleniowe\, przerwy kawowe\n\nUWAGA! Organizator nie zapewnia noclegów. \nZarejestruj się już dziś! \nLiczba miejsc ograniczona. Pierwszeństwo udziału w Warsztatach mają mediatorzy Ogólnopolskiej Sieci Ośrodków Radców Prawnych. \nZa udział w jednym szkoleniu można uzyskać 8 punktów. \n\n\n			\n	\n			Pliki do pobrania	\n\n\n\n	\n\n	\n		\n		\n\n			\n							\n			\n			\n			Program szkolenia_14.12.2018\n			\n			\n\n			\n			\n			\n			\n							Wielkość pliku: 423 KB\n			\n			\n		\n\n	\n		\n		\n\n			\n							\n			\n			\n			Program szkolenia_15.12.2018\n			\n			\n\n			\n			\n			\n			\n							Wielkość pliku: 497 KB\n			\n			\n		\n\n	\n		\n		\n\n			\n							\n			\n			\n			Warunki uczestnictwa_grudzień\n			\n			\n\n			\n			\n			\n			\n							Wielkość pliku: 144 KB\n			\n			\n		\n\n	\n	\n\n\n\n	\n
URL:https://mediacje.kirp.pl/szkolenie/warsztaty-specjalistyczne-dla-mediatorow-2/
LOCATION:Aleje Ujazdowskie 18\, Warszawa\, Polska
CATEGORIES:Szkolenia,Szkolenia CMG KRRP
ORGANIZER;CN="Centrum%20Mediacji%20Gospodarczej%20przy%20Krajowej%20Radzie%20Radc%C3%B3w%20Prawnych":MAILTO:centrum.mediacji@kirp.pl
END:VEVENT
END:VCALENDAR